BEGIN:VCALENDAR
VERSION:2.0
PRODID:-//CITY WEST HOUSING - ECPv6.15.20//NONSGML v1.0//EN
CALSCALE:GREGORIAN
METHOD:PUBLISH
X-WR-CALNAME:CITY WEST HOUSING
X-ORIGINAL-URL:https://citywesthousing.com.au
X-WR-CALDESC:Events for CITY WEST HOUSING
REFRESH-INTERVAL;VALUE=DURATION:PT1H
X-Robots-Tag:noindex
X-PUBLISHED-TTL:PT1H
BEGIN:VTIMEZONE
TZID:Australia/Melbourne
BEGIN:STANDARD
TZOFFSETFROM:+1100
TZOFFSETTO:+1000
TZNAME:AEST
DTSTART:20230401T160000
END:STANDARD
BEGIN:DAYLIGHT
TZOFFSETFROM:+1000
TZOFFSETTO:+1100
TZNAME:AEDT
DTSTART:20230930T160000
END:DAYLIGHT
BEGIN:STANDARD
TZOFFSETFROM:+1100
TZOFFSETTO:+1000
TZNAME:AEST
DTSTART:20240406T160000
END:STANDARD
BEGIN:DAYLIGHT
TZOFFSETFROM:+1000
TZOFFSETTO:+1100
TZNAME:AEDT
DTSTART:20241005T160000
END:DAYLIGHT
BEGIN:STANDARD
TZOFFSETFROM:+1100
TZOFFSETTO:+1000
TZNAME:AEST
DTSTART:20250405T160000
END:STANDARD
BEGIN:DAYLIGHT
TZOFFSETFROM:+1000
TZOFFSETTO:+1100
TZNAME:AEDT
DTSTART:20251004T160000
END:DAYLIGHT
BEGIN:STANDARD
TZOFFSETFROM:+1100
TZOFFSETTO:+1000
TZNAME:AEST
DTSTART:20260404T160000
END:STANDARD
BEGIN:DAYLIGHT
TZOFFSETFROM:+1000
TZOFFSETTO:+1100
TZNAME:AEDT
DTSTART:20261003T160000
END:DAYLIGHT
BEGIN:STANDARD
TZOFFSETFROM:+1100
TZOFFSETTO:+1000
TZNAME:AEST
DTSTART:20270403T160000
END:STANDARD
BEGIN:DAYLIGHT
TZOFFSETFROM:+1000
TZOFFSETTO:+1100
TZNAME:AEDT
DTSTART:20271002T160000
END:DAYLIGHT
END:VTIMEZONE
BEGIN:VEVENT
DTSTART;TZID=Australia/Melbourne:20260205T161500
DTEND;TZID=Australia/Melbourne:20260205T164500
DTSTAMP:20260425T071147
CREATED:20260119T050234Z
LAST-MODIFIED:20260122T050301Z
UID:10000324-1770308100-1770309900@citywesthousing.com.au
SUMMARY:Kids Yoga
DESCRIPTION:Our Kids Yoga program is starting up again this Thursday 22 January\, led by our resident yoga teacher\, Amanda! \nThis fun and engaging free 10-week Kids Yoga course introduces children to yoga through playful poses\, breathing exercises\, and mindfulness techniques\, helping them build strength\, balance\, focus\, and inner calm. \nSuitable for children aged 5–12 years. Parents are welcome to drop off and return at the end of the session. \n  \nLocation: Green Square Public School – Community room 1 and Community Room 2 \nDate: Every Thursday\, starting 22 January – Thursday\, 26 March 2026 \nTime: 4:15 pm-4:45 pm \n  \nMost weeks\, the sessions will be held in Community room 1\, but there are a couple of weeks where we are in community room 2\, please find the breakdown of dates below: \nThursday\, 22/1/26 \nThursday\, 29/1/26 – Community Room 2 \nThursday\, 5/2/26 – Community Room 2 \nThursday\, 12/2/26 \nThursday\, 19/2/26 \nThursday\, 26/2/26 \nThursday\, 5/3/26 \nThursday\, 12/3/26 \nThursday\, 19/3/26 \nThursday\, 26/3/26
URL:https://citywesthousing.com.au/event/kids-yoga/2026-02-05/
LOCATION:Green Square School – Community Space 1\, 15 Zetland Ave\, Zetland\, NSW\, 2017\, Australia
ATTACH;FMTTYPE=image/png:https://citywesthousing.com.au/wp-content/uploads/2026/01/Kids-Yoga-Poster.png
ORGANIZER;CN="City West Housing":MAILTO:comms@citywesthousing.com.au
END:VEVENT
BEGIN:VEVENT
DTSTART;TZID=Australia/Melbourne:20260129T161500
DTEND;TZID=Australia/Melbourne:20260129T164500
DTSTAMP:20260425T071147
CREATED:20260119T050234Z
LAST-MODIFIED:20260122T050301Z
UID:10000323-1769703300-1769705100@citywesthousing.com.au
SUMMARY:Kids Yoga
DESCRIPTION:Our Kids Yoga program is starting up again this Thursday 22 January\, led by our resident yoga teacher\, Amanda! \nThis fun and engaging free 10-week Kids Yoga course introduces children to yoga through playful poses\, breathing exercises\, and mindfulness techniques\, helping them build strength\, balance\, focus\, and inner calm. \nSuitable for children aged 5–12 years. Parents are welcome to drop off and return at the end of the session. \n  \nLocation: Green Square Public School – Community room 1 and Community Room 2 \nDate: Every Thursday\, starting 22 January – Thursday\, 26 March 2026 \nTime: 4:15 pm-4:45 pm \n  \nMost weeks\, the sessions will be held in Community room 1\, but there are a couple of weeks where we are in community room 2\, please find the breakdown of dates below: \nThursday\, 22/1/26 \nThursday\, 29/1/26 – Community Room 2 \nThursday\, 5/2/26 – Community Room 2 \nThursday\, 12/2/26 \nThursday\, 19/2/26 \nThursday\, 26/2/26 \nThursday\, 5/3/26 \nThursday\, 12/3/26 \nThursday\, 19/3/26 \nThursday\, 26/3/26
URL:https://citywesthousing.com.au/event/kids-yoga/2026-01-29/
LOCATION:Green Square School – Community Space 1\, 15 Zetland Ave\, Zetland\, NSW\, 2017\, Australia
ATTACH;FMTTYPE=image/png:https://citywesthousing.com.au/wp-content/uploads/2026/01/Kids-Yoga-Poster.png
ORGANIZER;CN="City West Housing":MAILTO:comms@citywesthousing.com.au
END:VEVENT
BEGIN:VEVENT
DTSTART;TZID=Australia/Melbourne:20260122T161500
DTEND;TZID=Australia/Melbourne:20260122T164500
DTSTAMP:20260425T071147
CREATED:20260119T050234Z
LAST-MODIFIED:20260122T050301Z
UID:10000322-1769098500-1769100300@citywesthousing.com.au
SUMMARY:Kids Yoga
DESCRIPTION:Our Kids Yoga program is starting up again this Thursday 22 January\, led by our resident yoga teacher\, Amanda! \nThis fun and engaging free 10-week Kids Yoga course introduces children to yoga through playful poses\, breathing exercises\, and mindfulness techniques\, helping them build strength\, balance\, focus\, and inner calm. \nSuitable for children aged 5–12 years. Parents are welcome to drop off and return at the end of the session. \n  \nLocation: Green Square Public School – Community room 1 and Community Room 2 \nDate: Every Thursday\, starting 22 January – Thursday\, 26 March 2026 \nTime: 4:15 pm-4:45 pm \n  \nMost weeks\, the sessions will be held in Community room 1\, but there are a couple of weeks where we are in community room 2\, please find the breakdown of dates below: \nThursday\, 22/1/26 \nThursday\, 29/1/26 – Community Room 2 \nThursday\, 5/2/26 – Community Room 2 \nThursday\, 12/2/26 \nThursday\, 19/2/26 \nThursday\, 26/2/26 \nThursday\, 5/3/26 \nThursday\, 12/3/26 \nThursday\, 19/3/26 \nThursday\, 26/3/26
URL:https://citywesthousing.com.au/event/kids-yoga/2026-01-22/
LOCATION:Green Square School – Community Space 1\, 15 Zetland Ave\, Zetland\, NSW\, 2017\, Australia
ATTACH;FMTTYPE=image/png:https://citywesthousing.com.au/wp-content/uploads/2026/01/Kids-Yoga-Poster.png
ORGANIZER;CN="City West Housing":MAILTO:comms@citywesthousing.com.au
END:VEVENT
BEGIN:VEVENT
DTSTART;TZID=Australia/Melbourne:20251018T100000
DTEND;TZID=Australia/Melbourne:20251018T130000
DTSTAMP:20260425T071147
CREATED:20250918T062233Z
LAST-MODIFIED:20250918T065128Z
UID:10000278-1760781600-1760792400@citywesthousing.com.au
SUMMARY:Annual Resident Forum
DESCRIPTION:  \nThe Annual Resident Forum is an event that allows residents to meet the City West Housing Management team and staff. It’s also an opportunity for residents to connect with their neighbours and residents from other apartment buildings. \nIt gives residents a chance to hear about important City West Housing initiatives and achievements over the past 12 months. There are short presentations about what we have been doing in housing services\, assets management\, community engagement and more! \nThe resident winners of the Community Impact Awards will also be announced.
URL:https://citywesthousing.com.au/event/annual-resident-forum-2/
LOCATION:Aerial UTS Function Centre\, Building 10\, Level 7\, 235 Jones Street\, Ultimo\, NSW\, 2007\, Australia
CATEGORIES:Community Events,Resident Forum
ATTACH;FMTTYPE=image/png:https://citywesthousing.com.au/wp-content/uploads/2025/09/Annual-Resident-Forum-Eventbrite-banner.png
ORGANIZER;CN="City West Housing":MAILTO:comms@citywesthousing.com.au
END:VEVENT
BEGIN:VEVENT
DTSTART;TZID=Australia/Melbourne:20250924T100000
DTEND;TZID=Australia/Melbourne:20250924T130000
DTSTAMP:20260425T071147
CREATED:20250918T071606Z
LAST-MODIFIED:20250918T071606Z
UID:10000321-1758708000-1758718800@citywesthousing.com.au
SUMMARY:OzHarvest NEST program
DESCRIPTION:LEARN TO COOK EASY & HEALTHY MEALS! \nCity West Housing has partnered with OzHarvest to deliver NEST (Nutrition Education and Skills Training) to residents. \nOzHarvest’s free NEST program teaches you new skills for better health in just six weeks. \n\nSave money on your food budget\nStore food safely\nUnderstand food labels\nPlan meals and reduce waste\nCook easy and healthy recipes
URL:https://citywesthousing.com.au/event/ozharvest-nest-program/
LOCATION:Redfern Community Centre\, 29-53 Hugo St\, Redfern\, NSW\, 2016\, Australia
CATEGORIES:Community Events,Health and Wellbeing
ATTACH;FMTTYPE=image/png:https://citywesthousing.com.au/wp-content/uploads/2025/09/OzHarvest-NEST-program.png
ORGANIZER;CN="City West Housing":MAILTO:comms@citywesthousing.com.au
END:VEVENT
BEGIN:VEVENT
DTSTART;TZID=Australia/Melbourne:20250917T100000
DTEND;TZID=Australia/Melbourne:20250917T130000
DTSTAMP:20260425T071147
CREATED:20250918T070758Z
LAST-MODIFIED:20250918T071300Z
UID:10000320-1758103200-1758114000@citywesthousing.com.au
SUMMARY:OzHarvest NEST program
DESCRIPTION:LEARN TO COOK EASY & HEALTHY MEALS! \nCity West Housing has partnered with OzHarvest to deliver NEST (Nutrition Education and Skills Training) to residents. \nOzHarvest’s free NEST program teaches you new skills for better health in just six weeks. \n\nSave money on your food budget\nStore food safely\nUnderstand food labels\nPlan meals and reduce waste\nCook easy and healthy recipes
URL:https://citywesthousing.com.au/event/ozharvest-nest-program-2-2/
LOCATION:Redfern Community Centre\, 29-53 Hugo St\, Redfern\, NSW\, 2016\, Australia
CATEGORIES:Community Events,Health and Wellbeing
ATTACH;FMTTYPE=image/png:https://citywesthousing.com.au/wp-content/uploads/2025/09/OzHarvest-NEST-program.png
ORGANIZER;CN="City West Housing":MAILTO:comms@citywesthousing.com.au
END:VEVENT
BEGIN:VEVENT
DTSTART;TZID=Australia/Melbourne:20241019T100000
DTEND;TZID=Australia/Melbourne:20241019T130000
DTSTAMP:20260425T071147
CREATED:20240729T062510Z
LAST-MODIFIED:20240912T044324Z
UID:10000210-1729332000-1729342800@citywesthousing.com.au
SUMMARY:Annual Resident Forum
DESCRIPTION:Meet your neighbours and City West Housing residents from other apartment buildings. \nCome along to meet the City West Housing Management team and staff\, and have your say. \nThere will be short presentations about what we have been up to in housing services\, assets management\, community engagement and more! \nRegister for free tickets here \nGo here for more information about the event
URL:https://citywesthousing.com.au/event/annual-resident-forum/
LOCATION:Aerial UTS Function Centre\, Building 10\, Level 7\, 235 Jones Street\, Ultimo\, NSW\, 2007\, Australia
CATEGORIES:Community Events,Resident Forum
ATTACH;FMTTYPE=image/png:https://citywesthousing.com.au/wp-content/uploads/2024/07/Save-the-date-Annual-Resident-Forum-2024-Facebook-Post.png
ORGANIZER;CN="City West Housing":MAILTO:comms@citywesthousing.com.au
END:VEVENT
END:VCALENDAR